BEGIN:VCALENDAR
VERSION:2.0
PRODID:icalendar-ruby
CALSCALE:GREGORIAN
METHOD:PUBLISH
BEGIN:VEVENT
DTSTAMP:20260421T084358Z
UID:286-6749196@hcfsidney.ca
DTSTART:20260426T191500Z
DTEND:20260426T203000Z
CLASS:PUBLIC
CREATED:20260402T115315
DESCRIPTION:If you are a member of Highway Christian Fellowship please mark
  this important date down in your calendar and be sure to attend.\nIf you 
 are not a member you are still invited to attend this meeting you just won
 't be able to vote. \nLight refreshments will be provided for those stayi
 ng after service for the AGM.
LAST-MODIFIED:20260402T115315
LOCATION:Highway Christian Fellowship 
SUMMARY:Annual General Meeting
URL;VALUE=URI:https://www.hcfsidney.ca/events/annual-general-meeting--286/2
 026-04-26
ATTACH;FILENAME=AGM-2026.png;FMTTYPE=image/png:https://dq5pwpg1q8ru0.cloudf
 ront.net/2026/04/02/18/52/40/daccda6e-06a4-4f77-8e9d-e638e246cbc5/AGM-2026
 .png
END:VEVENT
END:VCALENDAR
