BEGIN:VCALENDAR
VERSION:2.0
PRODID:icalendar-ruby
CALSCALE:GREGORIAN
METHOD:PUBLISH
BEGIN:VEVENT
DTSTAMP:20260423T100927Z
UID:161-7185195@hcfsidney.ca
DTSTART:20261016T020000Z
DTEND:20261016T030000Z
CLASS:PUBLIC
CREATED:20260422T175134
DESCRIPTION:"Again I say to you\, if two of you agree on earth about anythi
 ng they ask\, it will be done for them by my Father in Heaven."\nJesus com
 manded His disciples to always be in prayer with each other and praying fo
 r each other.\nJoin us Thursday nights\, at 7 pm as we pray for our chur
 ch\, our community\, our nation and the world.
LAST-MODIFIED:20260422T175134
LOCATION:Highway Christian Fellowship 
SUMMARY:All Church Prayer Meeting
URL;VALUE=URI:https://www.hcfsidney.ca/events/all-church-prayer-meeting/202
 6-10-15
ATTACH;FILENAME=All Church Prayer.png;FMTTYPE=image/png:https://dq5pwpg1q8r
 u0.cloudfront.net/2021/06/01/17/55/02/0ccb8f43-4250-4a9c-97c5-3b2378b6b7fc
 /All%20Church%20Prayer.png
END:VEVENT
END:VCALENDAR
